BEGIN:VCALENDAR
VERSION:2.0
PRODID:-//Squarespace Inc/Squarespace 6//v6//EN
BEGIN:VEVENT
UID:5c46902988251ba079727570@squarespace.com
DTSTAMP:20190122T040958Z
DTSTART:20190307T230000Z
DTEND:20190329T000000Z
SUMMARY:Elemental Grooves 4 Week Course
GEO:-35.070292;150.675352
LOCATION:South Coast Soul\, 4/1 The Vincentia Village Centre\, Vincentia\, 
 Australia
END:VEVENT
END:VCALENDAR
