BEGIN:VCALENDAR
VERSION:2.0
PRODID:-//Squarespace Inc/Squarespace 6//v6//EN
BEGIN:VEVENT
UID:5c47b035b8a0454731cdc97c@squarespace.com
DTSTAMP:20190123T003651Z
DTSTART:20190314T003000Z
DTEND:20190317T213000Z
SUMMARY:50hr Ayurvedic Yoga Specialist  Training  - Embodied Wisdom with Br
 ad Hay
END:VEVENT
END:VCALENDAR
