BEGIN:VCALENDAR
VERSION:2.0
PRODID:-//Squarespace Inc/Squarespace 6//v6//EN
BEGIN:VEVENT
UID:5c72621e104c7b43f75fb908@squarespace.com
DTSTAMP:20190227T105253Z
DTSTART:20191011T183000Z
DTEND:20191018T173000Z
SUMMARY:2019 Bali Yoga &amp\; Wellness Retreat
END:VEVENT
END:VCALENDAR
