BEGIN:VCALENDAR
VERSION:2.0
PRODID:-//Squarespace Inc/Squarespace 6//v6//EN
BEGIN:VEVENT
UID:5c186440aa4a99481a14892d@squarespace.com
DTSTAMP:20181218T031556Z
DTSTART:20190106T143000Z
DTEND:20190106T173000Z
SUMMARY:Elemental Grooves 
END:VEVENT
END:VCALENDAR
