BEGIN:VCALENDAR
VERSION:2.0
PRODID:-//Squarespace Inc/Squarespace 6//v6//EN
BEGIN:VEVENT
UID:5bffd0274ae23717f2ebf5e8@squarespace.com
DTSTAMP:20181129T121033Z
DTSTART:20190131T230000Z
DTEND:20190201T010000Z
SUMMARY:A Journey of Breath\, Movement and Sound
GEO:-35.070292;150.675352
LOCATION:South Coast Soul\, 4/1 The Vincentia Village Centre\, Vincentia\, 
 Australia
END:VEVENT
END:VCALENDAR
