BEGIN:VCALENDAR
VERSION:2.0
PRODID:-//Squarespace Inc/Squarespace 6//v6//EN
BEGIN:VEVENT
UID:5bff8f524fa51a6e7109e880@squarespace.com
DTSTAMP:20181129T072102Z
DTSTART:20190119T133000Z
DTEND:20190119T153000Z
SUMMARY:The Moon with Josh Blau
GEO:-35.070292;150.675352
LOCATION:South Coast Soul\, 4/1 The Vincentia Village Centre\, Vincentia\, 
 Australia
END:VEVENT
END:VCALENDAR
