BEGIN:VCALENDAR
VERSION:2.0
PRODID:-//Squarespace Inc/Squarespace 6//v6//EN
BEGIN:VEVENT
UID:5bff916e6d2a73dea0def87b@squarespace.com
DTSTAMP:20181129T072242Z
DTSTART:20190118T230000Z
DTEND:20190119T000000Z
SUMMARY:Heart Of Devotion\, KIRTAN with Josh Blau ( 60 Min ) 
GEO:-35.070292;150.675352
LOCATION:South Coast Soul\, 4/1 The Vincentia Village Centre\, NSW\, Vincen
 tia
END:VEVENT
END:VCALENDAR
