BEGIN:VCALENDAR
VERSION:2.0
PRODID:-//Squarespace Inc/Squarespace 6//v6//EN
BEGIN:VEVENT
UID:5b6f65b44fa51a50b7c34c4b@squarespace.com
DTSTAMP:20180814T031228Z
DTSTART:20180930T120000Z
DTEND:20180930T140000Z
SUMMARY:Amplify your Intuition with Karina Pupo
GEO:-35.076667;150.673611
LOCATION:South Coast Soul\, 4/1 The Vincentia Village Centre\, Vincentia 25
 40\, Australia
END:VEVENT
END:VCALENDAR
