BEGIN:VCALENDAR
VERSION:2.0
PRODID:-//Squarespace Inc/Squarespace 6//v6//EN
BEGIN:VEVENT
UID:5b742273562fa736e3109c88@squarespace.com
DTSTAMP:20180815T130359Z
DTSTART:20180830T223000Z
DTEND:20180831T003000Z
SUMMARY:Acro Yoga 4 Week Beginners Course
END:VEVENT
END:VCALENDAR
