BEGIN:VCALENDAR
VERSION:2.0
PRODID:-//Squarespace Inc/Squarespace 6//v6//EN
BEGIN:VEVENT
UID:5b741f6103ce64ed1e7d2edb@squarespace.com
DTSTAMP:20180815T125344Z
DTSTART:20180824T223000Z
DTEND:20180825T003000Z
SUMMARY:Acro Yoga FREE trial and info night
GEO:-35.076667;150.673611
LOCATION:South Coast Soul\, Vincentia\, Australia
END:VEVENT
END:VCALENDAR
