BEGIN:VCALENDAR
VERSION:2.0
PRODID:-//Squarespace Inc/Squarespace 6//v6//EN
BEGIN:VEVENT
UID:5b18c9a5aa4a996dfdd3d742@squarespace.com
DTSTAMP:20180607T060922Z
DTSTART:20180818T190000Z
DTEND:20180818T203000Z
SUMMARY:Soulsteps at Worrowing
GEO:-35.085482;150.638858
LOCATION:Worrowing\, 81 The Wool Road\, Worrowing Heights\, NSW\, 2540\, Au
 stralia
END:VEVENT
END:VCALENDAR
