BEGIN:VCALENDAR
VERSION:2.0
PRODID:-//Squarespace Inc/Squarespace 6//v6//EN
BEGIN:VEVENT
UID:5ac43e95aa4a99f8e15e5d47@squarespace.com
DTSTAMP:20180806T030232Z
DTSTART:20180811T120000Z
DTEND:20180811T140000Z
SUMMARY:Yoga for the Complete Beginner
END:VEVENT
END:VCALENDAR
