BEGIN:VCALENDAR
VERSION:2.0
PRODID:-//Squarespace Inc/Squarespace 6//v6//EN
BEGIN:VEVENT
UID:59b13d9959cc68f4cebe8d84@squarespace.com
DTSTAMP:20180520T232304Z
DTSTART:20180716T000000Z
DTEND:20180722T185900Z
SUMMARY:South Coast Soul Retreat - Canggu Bali
GEO:25.723259;-80.420373
LOCATION:The Practice
END:VEVENT
END:VCALENDAR
