BEGIN:VCALENDAR
VERSION:2.0
PRODID:-//Squarespace Inc/Squarespace 6//v6//EN
BEGIN:VEVENT
UID:5b286cc2352f53dc143cf119@squarespace.com
DTSTAMP:20180619T024950Z
DTSTART:20180701T190000Z
DTEND:20180701T210000Z
SUMMARY:Yin & Mindfulness: How to Cultivate Loving Presence
GEO:-35.076667;150.673611
LOCATION:South Coast Soul\, 4/1 The Vincentia Village Centre\, Vincentia\, 
 Australia
END:VEVENT
END:VCALENDAR
