BEGIN:VCALENDAR
VERSION:2.0
PRODID:-//Squarespace Inc/Squarespace 6//v6//EN
BEGIN:VEVENT
UID:5b092d96352f53c0a5f3096a@squarespace.com
DTSTAMP:20180526T102624Z
DTSTART:20180611T133000Z
DTEND:20180701T143000Z
SUMMARY:21 Day Yoga Challenge
GEO:-35.076667;150.673611
LOCATION:South Coast Soul\, Vincentia\, Australia
END:VEVENT
END:VCALENDAR
