BEGIN:VCALENDAR
VERSION:2.0
PRODID:-//Squarespace Inc/Squarespace 6//v6//EN
BEGIN:VEVENT
UID:5ac437bc6d2a73536443b5b8@squarespace.com
DTSTAMP:20180404T024337Z
DTSTART:20180610T120000Z
DTEND:20180610T140000Z
SUMMARY:Empowering the Wild - Karina Pupo
GEO:-35.070292;150.675352
LOCATION:South Coast Soul\, 4/1 The Vincentia Village Centre\, Vincentia NS
 W\, Australia
END:VEVENT
END:VCALENDAR
