BEGIN:VCALENDAR
VERSION:2.0
PRODID:-//Squarespace Inc/Squarespace 6//v6//EN
BEGIN:VEVENT
UID:5aa3b34be2c4832555bda431@squarespace.com
DTSTAMP:20180310T104157Z
DTSTART:20180407T140000Z
DTEND:20180407T190000Z
SUMMARY:Blessing Beads
GEO:-35.070802;150.67383
LOCATION:South Coast Soul\, 5 Burton Street\, Vincentia\, NSW\, 2540\, Aust
 ralia
END:VEVENT
END:VCALENDAR
