BEGIN:VCALENDAR
VERSION:2.0
PRODID:-//Squarespace Inc/Squarespace 6//v6//EN
BEGIN:VEVENT
UID:5ac429c8f950b72a523cad89@squarespace.com
DTSTAMP:20180404T020804Z
DTSTART:20180429T120000Z
DTEND:20180429T143000Z
SUMMARY:Fire of Transformation
GEO:-35.070292;150.675352
LOCATION:South Coast Soul\, 4/1 The Vincentia Village Centre\, NSW\, Austra
 lia
END:VEVENT
END:VCALENDAR
