BEGIN:VCALENDAR
VERSION:2.0
PRODID:-//Squarespace Inc/Squarespace 6//v6//EN
BEGIN:VEVENT
UID:5a670106e2c48352fcd10c92@squarespace.com
DTSTAMP:20180124T030045Z
DTSTART:20180215T230000Z
DTEND:20180216T000000Z
SUMMARY:Soul Flow Term 1
GEO:-35.070802;150.67383
LOCATION:South Coast Soul\, 5 Burton Street\, Vincentia\, NSW\, 2540\, Aust
 ralia
END:VEVENT
END:VCALENDAR
