BEGIN:VCALENDAR
VERSION:2.0
PRODID:-//Squarespace Inc/Squarespace 6//v6//EN
BEGIN:VEVENT
UID:5c17026f4d7a9c14f01da3ef@squarespace.com
DTSTAMP:20181217T022124Z
DTSTART:20181231T111500Z
DTEND:20181231T124500Z
SUMMARY:New Year Mastery
GEO:-35.052013;150.651738
LOCATION:South Coast Soul Yoga\, Moona Moona Creek Reserve\, Huskisson\, Au
 stralia
END:VEVENT
END:VCALENDAR
