BEGIN:VCALENDAR
VERSION:2.0
PRODID:-//Squarespace Inc/Squarespace 6//v6//EN
BEGIN:VEVENT
UID:5bf4a477352f53aab754f564@squarespace.com
DTSTAMP:20181121T003234Z
DTSTART:20181216T130000Z
DTEND:20181216T153000Z
SUMMARY:South Coast Soul FREE Open Day
GEO:-35.070292;150.675352
LOCATION:South Coast Soul\, 4/1 The Vincentia Village Centre\, Vincentia\, 
 Australia
END:VEVENT
END:VCALENDAR
