BEGIN:VCALENDAR
VERSION:2.0
PRODID:-//Squarespace Inc/Squarespace 6//v6//EN
BEGIN:VEVENT
UID:5bc3e2a0e4966bccb5796c8b@squarespace.com
DTSTAMP:20181015T004958Z
DTSTART:20181214T230000Z
DTEND:20181215T020000Z
SUMMARY:Karuah Secret Garden Tour
END:VEVENT
END:VCALENDAR
