BEGIN:VCALENDAR
VERSION:2.0
PRODID:-//Squarespace Inc/Squarespace 6//v6//EN
BEGIN:VEVENT
UID:5b74a322cd8366ce272d56da@squarespace.com
DTSTAMP:20180926T215934Z
DTSTART:20181124T140000Z
DTEND:20181125T210000Z
SUMMARY:The Alchemy of Yogic Arts with Brad Hay
END:VEVENT
END:VCALENDAR
