BEGIN:VCALENDAR
VERSION:2.0
PRODID:-//Squarespace Inc/Squarespace 6//v6//EN
BEGIN:VEVENT
UID:5bee592521c67cfc873cc4da@squarespace.com
DTSTAMP:20181116T061905Z
DTSTART:20181126T111500Z
DTEND:20181126T123000Z
SUMMARY:Monday Morning Mastery
GEO:-35.04184;150.67133
LOCATION:Moona Moona Creek\, Huskisson\, Australia
END:VEVENT
END:VCALENDAR
