BEGIN:VCALENDAR
VERSION:2.0
PRODID:-//Squarespace Inc/Squarespace 6//v6//EN
BEGIN:VEVENT
UID:5b91f3b3562fa7c0b9c69507@squarespace.com
DTSTAMP:20180907T035610Z
DTSTART:20181028T130000Z
DTEND:20181028T160000Z
SUMMARY:Journey to Self with Kris Spence
GEO:-35.070292;150.675352
LOCATION:South Coast Soul\, 4/1 The Vincentia Village Centre\, NSW
END:VEVENT
END:VCALENDAR
