BEGIN:VCALENDAR
VERSION:2.0
PRODID:-//Squarespace Inc/Squarespace 6//v6//EN
BEGIN:VEVENT
UID:5a370352e4966b79a0c9af59@squarespace.com
DTSTAMP:20180116T063500Z
DTSTART:20180111T120000Z
DTEND:20180212T010000Z
SUMMARY:Cultivating Purpose
GEO:-35.076667;150.673611
LOCATION:South Coast Soul\, 4/1 The Vincentia Village Centre\, Vincentia\, 
 Australia
END:VEVENT
END:VCALENDAR
