BEGIN:VCALENDAR
VERSION:2.0
PRODID:-//Squarespace Inc/Squarespace 6//v6//EN
BEGIN:VEVENT
UID:597fe5b8d2b857f7bd3e6700@squarespace.com
DTSTAMP:20170907T121615Z
DTSTART:20170911T101500Z
DTEND:20171010T234500Z
SUMMARY:Spring Into Summer 30 Day Yoga Challenge 
GEO:-35.070896;150.672429
LOCATION:South Coast Soul\, 4/1 The Vincentia Village Centre\, Vincentia NS
 W 2540\, Australia
END:VEVENT
END:VCALENDAR
