BEGIN:VCALENDAR
VERSION:2.0
PRODID:-//Squarespace Inc/Squarespace 6//v6//EN
BEGIN:VEVENT
UID:59b13c20914e6b2482bf5f53@squarespace.com
DTSTAMP:20170907T123445Z
DTSTART:20170910T130000Z
DTEND:20170910T140000Z
SUMMARY:Outdoor Yoga is back!
GEO:-35.037898;150.672919
LOCATION:South Coast Soul\, Voyager Memorial Park\, Huskisson\, Australia
END:VEVENT
END:VCALENDAR
