BEGIN:VCALENDAR
VERSION:2.0
PRODID:-//Squarespace Inc/Squarespace 6//v6//EN
BEGIN:VEVENT
UID:595b7432440243e15e97f8ad@squarespace.com
DTSTAMP:20170807T224722Z
DTSTART:20170812T110000Z
DTEND:20170813T000000Z
SUMMARY:South Coast Soul Open Day
GEO:-35.070802;150.67383
LOCATION:InPractice\, 5 Burton Street\, Vincentia\, NSW\, 2540\, Australia
END:VEVENT
END:VCALENDAR
