BEGIN:VCALENDAR
VERSION:2.0
PRODID:-//Squarespace Inc/Squarespace 6//v6//EN
BEGIN:VEVENT
UID:5a25c1f371c10b5d643129c3@squarespace.com
DTSTAMP:20171204T214807Z
DTSTART:20171215T230000Z
DTEND:20171216T010000Z
SUMMARY:Sound Healing Journey with Suntara
GEO:-35.070802;150.67383
LOCATION:South Coast Soul\, 5 Burton Street\, Vincentia\, NSW\, 2540\, Aust
 ralia
END:VEVENT
END:VCALENDAR
