BEGIN:VCALENDAR
VERSION:2.0
PRODID:-//Squarespace Inc/Squarespace 6//v6//EN
BEGIN:VEVENT
UID:59c25cee59cc6821e60c8b23@squarespace.com
DTSTAMP:20171010T111803Z
DTSTART:20171103T223000Z
DTEND:20171104T000000Z
SUMMARY:Chakra Dance - 7 Keys to Freedom
GEO:-35.070302;150.674509
LOCATION:South Coast Soul\, 4/1 The Vincetnia Village Centre\, Vincentia\, 
 Australia
END:VEVENT
END:VCALENDAR
