BEGIN:VCALENDAR
VERSION:2.0
PRODID:-//Squarespace Inc/Squarespace 6//v6//EN
BEGIN:VEVENT
UID:59c4db0abce17630ed5544f3@squarespace.com
DTSTAMP:20170922T094955Z
DTSTART:20171008T210000Z
DTEND:20171008T220000Z
SUMMARY:Room to Breathe 
GEO:-35.070302;150.674509
LOCATION:South Coast Soul\, 4/1 The Vincentia Village Centre\, Vincentia\, 
 2540\, Australia
END:VEVENT
END:VCALENDAR
