BEGIN:VCALENDAR
VERSION:2.0
PRODID:-//Squarespace Inc/Squarespace 6//v6//EN
BEGIN:VEVENT
UID:59f7c8fde2c4834bbc1638a7@squarespace.com
DTSTAMP:20171031T011542Z
DTSTART:20171119T190000Z
DTEND:20171119T230000Z
SUMMARY:Cultivating Purpose
GEO:-35.070292;150.675352
LOCATION:South Coast Soul\, 4/1 The Vincentia Village Centre\, Vincentia\, 
 NSW 2540\, Australia
END:VEVENT
END:VCALENDAR
